BEGIN:VCALENDAR
VERSION:2.0
PRODID:-//NC Museum of Dolls, Toys &amp; Miniatures - ECPv6.15.11//NONSGML v1.0//EN
CALSCALE:GREGORIAN
METHOD:PUBLISH
X-ORIGINAL-URL:https://ncmdtm.org
X-WR-CALDESC:Events for NC Museum of Dolls, Toys &amp; Miniatures
REFRESH-INTERVAL;VALUE=DURATION:PT1H
X-Robots-Tag:noindex
X-PUBLISHED-TTL:PT1H
BEGIN:VTIMEZONE
TZID:America/New_York
BEGIN:DAYLIGHT
TZOFFSETFROM:-0500
TZOFFSETTO:-0400
TZNAME:EDT
DTSTART:20250309T070000
END:DAYLIGHT
BEGIN:STANDARD
TZOFFSETFROM:-0400
TZOFFSETTO:-0500
TZNAME:EST
DTSTART:20251102T060000
END:STANDARD
BEGIN:DAYLIGHT
TZOFFSETFROM:-0500
TZOFFSETTO:-0400
TZNAME:EDT
DTSTART:20260308T070000
END:DAYLIGHT
BEGIN:STANDARD
TZOFFSETFROM:-0400
TZOFFSETTO:-0500
TZNAME:EST
DTSTART:20261101T060000
END:STANDARD
BEGIN:DAYLIGHT
TZOFFSETFROM:-0500
TZOFFSETTO:-0400
TZNAME:EDT
DTSTART:20270314T070000
END:DAYLIGHT
BEGIN:STANDARD
TZOFFSETFROM:-0400
TZOFFSETTO:-0500
TZNAME:EST
DTSTART:20271107T060000
END:STANDARD
BEGIN:DAYLIGHT
TZOFFSETFROM:-0500
TZOFFSETTO:-0400
TZNAME:EDT
DTSTART:20280312T070000
END:DAYLIGHT
BEGIN:STANDARD
TZOFFSETFROM:-0400
TZOFFSETTO:-0500
TZNAME:EST
DTSTART:20281105T060000
END:STANDARD
END:VTIMEZONE
BEGIN:VEVENT
DTSTART;VALUE=DATE:20261001
DTEND;VALUE=DATE:20261101
DTSTAMP:20260420T061300
CREATED:20251221T164847Z
LAST-MODIFIED:20251221T164904Z
UID:10000257-1790812800-1793491199@ncmdtm.org
SUMMARY:Spookytober: Halloween Events at the Museum
DESCRIPTION:Save the date to celebrate the spookiest season here at the museum! Join us for SPOOKYTOBER in October 2026!\nWhether you love a good scare or like to keep things cute and crafty\, we have a perfect Halloween event for you here at the museum. Join us for events ranging from family-friendly crafts to after-hours paranormal investigations and make it a Halloween to remember here at the museum! \nJoin our email list to hear from us when we announce our Spookytober 2026 event plans: https://ncmdtm.org/#modal-hojb9c2m85ut
URL:https://ncmdtm.org/event/spookytober-2026/
LOCATION:NC Museum of Dolls\, Toys & Miniatures\, 440 South Salisbury Ave\, Spencer\, North Carolina\, 28195\, United States
END:VEVENT
BEGIN:VEVENT
DTSTART;TZID=America/New_York:20261020T123000
DTEND;TZID=America/New_York:20261020T143000
DTSTAMP:20260420T061300
CREATED:20251221T151217Z
LAST-MODIFIED:20260107T130230Z
UID:10000217-1792499400-1792506600@ncmdtm.org
SUMMARY:2026 Monthly Doll Club Meeting: Rowan Doll Society
DESCRIPTION:The Rowan Doll Society doll club is accepting new members! Meetings are held at the museum every third Tuesday.\nJoin a group of passionate doll collectors and doll lovers from across NC. Becoming part of a doll club at the NC Museum of Dolls\, Toys & Miniatures is a great way to meet others in our area who share your interest in dolls! \nOur meetings bring collectors together to explore the history and artistry of dolls\, exchange ideas and knowledge\, and enjoy the camaraderie of a supportive and fun-loving community. \nOpen to doll collectors of all genders ages 18 and up.\n\nEveryone with a passion for dolls is invited to join. Whether you collect modern\, vintage\, or antique dolls or are just starting out\, you’ll find plenty of inspiration\, learning\, and friendship at every meeting.\nLocation & Date:\nEvery third Tuesday of the month (see dates below) from 12:30 pm to 2:30 pm. \n\n\n12:30 pm to 1 pm: Club social time\n\n\n1 pm to 2:30 pm: Official club meeting\, program/presentation\, and Show-n-Tell\n\n\n\nMeetings are held inside the NC Museum of Dolls\, Toys & Miniatures at 440 South Salisbury Avenue\, Spencer NC 28159 \n(Museum is closed to the public on Tuesdays.) \n\nTuesday\, January 20\, 2026\nTuesday\, February 17\, 2026\nTuesday\, March 17\, 2026 – special anniversary celebration\, email Kathy for details. \nTuesday\, April 21\, 2026\nTuesday\, May 19\, 2026\nTuesday\, June 16\, 2026\nNo meeting in July 2026.\nTuesday\, August 18\, 2026\nTuesday\, September 15\, 2026\nTuesday\, October 20\, 2026\nTuesday\, November 17\, 2026\nTuesday\, December 15\, 2026\n\nCost & Registration:\nThere is no cost for your first meeting to determine if our doll club is right for you. If you would like to join the club\, the club dues are just $45.00 per year. \nYour annual club dues for the Rowan Doll Society includes 4 issues of Doll News Magazine\, 8 newsletters\, and more. The Rowan Doll Society is an affiliated chapter with the United Federation of Doll Clubs or UFDC – learn about the organization at ufdc.org. \nTo sign up for the next meeting\, contact Kathy Gregg\, Club President\, via email: kgregg002@gmail.com
URL:https://ncmdtm.org/event/rowan-doll-society-2-2/2026-10-20/
LOCATION:NC Museum of Dolls\, Toys & Miniatures\, 440 South Salisbury Ave\, Spencer\, North Carolina\, 28195\, United States
END:VEVENT
BEGIN:VEVENT
DTSTART;VALUE=DATE:20261101
DTEND;VALUE=DATE:20270201
DTSTAMP:20260420T061300
CREATED:20251221T165751Z
LAST-MODIFIED:20251223T223852Z
UID:10000259-1793491200-1801439999@ncmdtm.org
SUMMARY:2026 Holiday Hours & Closures
DESCRIPTION:Our holiday schedule for 2026 – subject to change:\n\nCLOSED on Thursday\, November 26 for Thanksgiving\nOPEN on Friday\, November 27 & Saturday\, November 28 normal hours (10 am to 4 pm)\nOPEN – SPECIAL WINTERFEST HOURS on Friday\, December 4 – museum is open 10 am to 9 pm\nOPEN – SPECIAL WINTERFEST HOURS on Saturday\, December 5 – museum is open 10 am to 9 pm\nOPEN – SPECIAL WINTERFEST HOURS on Sunday\, December 6 – museum is open 2 pm to 8 pm\nCLOSED Thursday\, December 24 to Saturday\, December 26 for Christmas\nCLOSED Friday\, January 1 and Saturday\, January 2\, 2027
URL:https://ncmdtm.org/event/2026-holiday-hours-closures/
LOCATION:NC Museum of Dolls\, Toys & Miniatures\, 440 South Salisbury Ave\, Spencer\, North Carolina\, 28195\, United States
END:VEVENT
BEGIN:VEVENT
DTSTART;TZID=America/New_York:20261117T123000
DTEND;TZID=America/New_York:20261117T143000
DTSTAMP:20260420T061300
CREATED:20251221T151217Z
LAST-MODIFIED:20260107T130230Z
UID:10000218-1794918600-1794925800@ncmdtm.org
SUMMARY:2026 Monthly Doll Club Meeting: Rowan Doll Society
DESCRIPTION:The Rowan Doll Society doll club is accepting new members! Meetings are held at the museum every third Tuesday.\nJoin a group of passionate doll collectors and doll lovers from across NC. Becoming part of a doll club at the NC Museum of Dolls\, Toys & Miniatures is a great way to meet others in our area who share your interest in dolls! \nOur meetings bring collectors together to explore the history and artistry of dolls\, exchange ideas and knowledge\, and enjoy the camaraderie of a supportive and fun-loving community. \nOpen to doll collectors of all genders ages 18 and up.\n\nEveryone with a passion for dolls is invited to join. Whether you collect modern\, vintage\, or antique dolls or are just starting out\, you’ll find plenty of inspiration\, learning\, and friendship at every meeting.\nLocation & Date:\nEvery third Tuesday of the month (see dates below) from 12:30 pm to 2:30 pm. \n\n\n12:30 pm to 1 pm: Club social time\n\n\n1 pm to 2:30 pm: Official club meeting\, program/presentation\, and Show-n-Tell\n\n\n\nMeetings are held inside the NC Museum of Dolls\, Toys & Miniatures at 440 South Salisbury Avenue\, Spencer NC 28159 \n(Museum is closed to the public on Tuesdays.) \n\nTuesday\, January 20\, 2026\nTuesday\, February 17\, 2026\nTuesday\, March 17\, 2026 – special anniversary celebration\, email Kathy for details. \nTuesday\, April 21\, 2026\nTuesday\, May 19\, 2026\nTuesday\, June 16\, 2026\nNo meeting in July 2026.\nTuesday\, August 18\, 2026\nTuesday\, September 15\, 2026\nTuesday\, October 20\, 2026\nTuesday\, November 17\, 2026\nTuesday\, December 15\, 2026\n\nCost & Registration:\nThere is no cost for your first meeting to determine if our doll club is right for you. If you would like to join the club\, the club dues are just $45.00 per year. \nYour annual club dues for the Rowan Doll Society includes 4 issues of Doll News Magazine\, 8 newsletters\, and more. The Rowan Doll Society is an affiliated chapter with the United Federation of Doll Clubs or UFDC – learn about the organization at ufdc.org. \nTo sign up for the next meeting\, contact Kathy Gregg\, Club President\, via email: kgregg002@gmail.com
URL:https://ncmdtm.org/event/rowan-doll-society-2-2/2026-11-17/
LOCATION:NC Museum of Dolls\, Toys & Miniatures\, 440 South Salisbury Ave\, Spencer\, North Carolina\, 28195\, United States
END:VEVENT
BEGIN:VEVENT
DTSTART;TZID=America/New_York:20261204T100000
DTEND;TZID=America/New_York:20261206T200000
DTSTAMP:20260420T061300
CREATED:20251221T165253Z
LAST-MODIFIED:20251221T165253Z
UID:10000258-1796378400-1796587200@ncmdtm.org
SUMMARY:Winterfest at the Museum 2026
DESCRIPTION:Winterfest is back!! Join us Dec 4-6\, 2026 for special hours\, half-off admission\, and a town-wide celebration!\nInformation below is from our 2025 event and is subject to change in 2026. \nWinter magic in downtown Spencer\, NC! Join us at the museum for special extended hours Friday\, December 4 through Sunday\, December 6. \nHALF PRICE ADMISSION to the museum on these dates only! \nGet your exclusive Winterfest souvenir ornament in our gift shop! You can browse & shop before or after you pay admission and enter the museum. \nNo online or advance registration is required. Stop by\, join us\, and let’s celebrate the true spirit of this beautiful season together! \nLocation & Dates:\nNC Museum of Dolls\, Toys & Miniatures\n440 South Salisbury Ave\, Spencer\, NC 28159 \n\nFriday December 4 – museum is open 10 am to 9 pm\nSaturday\, December 5 – museum is open 10 am to 9 pm \nSunday\, December 6 – museum is open 2 pm to 8 pm
URL:https://ncmdtm.org/event/winterfest-2026/
LOCATION:NC Museum of Dolls\, Toys & Miniatures\, 440 South Salisbury Ave\, Spencer\, North Carolina\, 28195\, United States
END:VEVENT
BEGIN:VEVENT
DTSTART;TZID=America/New_York:20261212T130000
DTEND;TZID=America/New_York:20261212T150000
DTSTAMP:20260420T061300
CREATED:20251221T170027Z
LAST-MODIFIED:20251221T170110Z
UID:10000260-1797080400-1797087600@ncmdtm.org
SUMMARY:Tea with Mrs. Claus 2026
DESCRIPTION:Save the date: Tea with Mrs. Claus is back Saturday\, December 12\, 2026!\nJoin our email list to hear from us when registration opens for this event: https://ncmdtm.org/#modal-hojb9c2m85ut \nInformation below is from our 2025 event and is subject to change in 2026. \nDate & Location:\nSaturday\, December 12\, 2026\nFrom 1 pm to 3 pm \nAt the NC Museum of Dolls\, Toys & Miniatures\n440 South Salisbury Ave\, Spencer\, NC 28159 \nMuseum is open 10 am to 4 pm. Event registration includes museum admission all day! \nRegister & Cost:\nJust $15 per person. Museum admission is included. \nEvent Details:\nThis event is perfect for families\, children\, and anyone who loves the magic of the holiday season! \nExplore our doll\, toy & miniature museum and enjoy tea\, treats\, photos\, story readings\, and door prizes – all starring Mrs. Claus herself.  \nOur tea service will include a delicious selection of savory and sweet treats\, along with a variety of teas\, hot cocoa\, and other beverages. \nChildren and adults alike will have the opportunity to participate in fun holiday-themed activities and crafts. \nThere will be door prizes for all who attend! \nDon’t forget to bring your camera! Mrs. Claus will be available for pictures and will even read a story or two. \nAll proceeds from the event will go towards supporting the NC Museum of Dolls\, Toys & Miniatures and its programs. \nYour event admission INCLUDES museum admission\, too! You can enjoy the museum from 10 am to 4 pm! \nWe look forward to sharing this magical holiday experience with you and your loved ones. Happy Holidays!
URL:https://ncmdtm.org/event/tea-with-mrs-claus-2026/
LOCATION:NC Museum of Dolls\, Toys & Miniatures\, 440 South Salisbury Ave\, Spencer\, North Carolina\, 28195\, United States
END:VEVENT
BEGIN:VEVENT
DTSTART;TZID=America/New_York:20261215T123000
DTEND;TZID=America/New_York:20261215T143000
DTSTAMP:20260420T061300
CREATED:20251221T151217Z
LAST-MODIFIED:20260107T130230Z
UID:10000219-1797337800-1797345000@ncmdtm.org
SUMMARY:2026 Monthly Doll Club Meeting: Rowan Doll Society
DESCRIPTION:The Rowan Doll Society doll club is accepting new members! Meetings are held at the museum every third Tuesday.\nJoin a group of passionate doll collectors and doll lovers from across NC. Becoming part of a doll club at the NC Museum of Dolls\, Toys & Miniatures is a great way to meet others in our area who share your interest in dolls! \nOur meetings bring collectors together to explore the history and artistry of dolls\, exchange ideas and knowledge\, and enjoy the camaraderie of a supportive and fun-loving community. \nOpen to doll collectors of all genders ages 18 and up.\n\nEveryone with a passion for dolls is invited to join. Whether you collect modern\, vintage\, or antique dolls or are just starting out\, you’ll find plenty of inspiration\, learning\, and friendship at every meeting.\nLocation & Date:\nEvery third Tuesday of the month (see dates below) from 12:30 pm to 2:30 pm. \n\n\n12:30 pm to 1 pm: Club social time\n\n\n1 pm to 2:30 pm: Official club meeting\, program/presentation\, and Show-n-Tell\n\n\n\nMeetings are held inside the NC Museum of Dolls\, Toys & Miniatures at 440 South Salisbury Avenue\, Spencer NC 28159 \n(Museum is closed to the public on Tuesdays.) \n\nTuesday\, January 20\, 2026\nTuesday\, February 17\, 2026\nTuesday\, March 17\, 2026 – special anniversary celebration\, email Kathy for details. \nTuesday\, April 21\, 2026\nTuesday\, May 19\, 2026\nTuesday\, June 16\, 2026\nNo meeting in July 2026.\nTuesday\, August 18\, 2026\nTuesday\, September 15\, 2026\nTuesday\, October 20\, 2026\nTuesday\, November 17\, 2026\nTuesday\, December 15\, 2026\n\nCost & Registration:\nThere is no cost for your first meeting to determine if our doll club is right for you. If you would like to join the club\, the club dues are just $45.00 per year. \nYour annual club dues for the Rowan Doll Society includes 4 issues of Doll News Magazine\, 8 newsletters\, and more. The Rowan Doll Society is an affiliated chapter with the United Federation of Doll Clubs or UFDC – learn about the organization at ufdc.org. \nTo sign up for the next meeting\, contact Kathy Gregg\, Club President\, via email: kgregg002@gmail.com
URL:https://ncmdtm.org/event/rowan-doll-society-2-2/2026-12-15/
LOCATION:NC Museum of Dolls\, Toys & Miniatures\, 440 South Salisbury Ave\, Spencer\, North Carolina\, 28195\, United States
END:VEVENT
END:VCALENDAR